BEGIN:VCALENDAR
VERSION:2.0
PRODID:SchoolNow
CALSCALE:GREGORIAN
BEGIN:VEVENT
UID:30cc9020-646c-11ee-9c7d-0a58a9feac02
DTSTAMP:20231006T171713Z
SUMMARY:Book Fair in Library
URL;VALUE=URI:https://www.dickinson.k12.nd.us/schools/berg/calendar/4838159
 /book-fair-in-library
DTSTART:20231017T213000Z
DTEND:20231018T003000Z
END:VEVENT
END:VCALENDAR
