BEGIN:VCALENDAR
VERSION:2.0
PRODID:SchoolNow
CALSCALE:GREGORIAN
BEGIN:VEVENT
UID:16c8b758-646c-11ee-b42d-0a58a9feac02
DTSTAMP:20231006T171629Z
SUMMARY:Book Fair in Library
URL;VALUE=URI:https://www.dickinson.k12.nd.us/schools/berg/calendar/4838158
 /book-fair-in-library
DTSTART:20231016T213000Z
DTEND:20231017T000000Z
END:VEVENT
END:VCALENDAR
