BEGIN:VCALENDAR
VERSION:2.0
PRODID:SchoolNow
CALSCALE:GREGORIAN
BEGIN:VEVENT
UID:f93303ce-646b-11ee-a04b-02401aca49fb
DTSTAMP:20231006T171540Z
SUMMARY:5th Grade Changing Program
URL;VALUE=URI:https://www.dickinson.k12.nd.us/schools/berg/calendar/4838157
 /5th-grade-changing-program
DTSTART;VALUE=DATE:20231017
DTEND;VALUE=DATE:20231018
END:VEVENT
END:VCALENDAR
