BEGIN:VCALENDAR
VERSION:2.0
PRODID:SchoolNow
CALSCALE:GREGORIAN
BEGIN:VEVENT
UID:eaf01978-646b-11ee-8848-0ae4d0d6c1e5
DTSTAMP:20231006T171516Z
SUMMARY:Fall Parent/Teacher Conferences
URL;VALUE=URI:https://www.dickinson.k12.nd.us/schools/berg/calendar/4838156
 /fall-parent-teacher-conferences
DTSTART:20231017T211500Z
DTEND:20231018T003000Z
END:VEVENT
END:VCALENDAR
