BEGIN:VCALENDAR
VERSION:2.0
PRODID:SchoolNow
CALSCALE:GREGORIAN
BEGIN:VEVENT
UID:aa8d780e-646a-11ee-8bb8-0ae4d0d6c1e5
DTSTAMP:20231006T170618Z
SUMMARY:Fall Parent Teacher Conferences
URL;VALUE=URI:https://www.dickinson.k12.nd.us/schools/berg/calendar/4838155
 /fall-parent-teacher-conferences
DTSTART:20231016T211500Z
DTEND:20231017T003000Z
END:VEVENT
END:VCALENDAR
