BEGIN:VCALENDAR
VERSION:2.0
PRODID:SchoolNow
CALSCALE:GREGORIAN
BEGIN:VEVENT
UID:8152473a-646a-11ee-b5f5-0a58a9feac02
DTSTAMP:20231006T170509Z
SUMMARY:Surround the State in Song at Dickinson Middle School
URL;VALUE=URI:https://www.dickinson.k12.nd.us/schools/berg/calendar/4838153
 /surround-the-state-in-song-at-dickinson-middle-school
DTSTART;VALUE=DATE:20231014
DTEND;VALUE=DATE:20231015
END:VEVENT
END:VCALENDAR
