BEGIN:VCALENDAR
VERSION:2.0
PRODID:SchoolNow
CALSCALE:GREGORIAN
BEGIN:VEVENT
UID:f0eda2c0-6469-11ee-b439-0a58a9feac02
DTSTAMP:20231006T170107Z
SUMMARY:Schoolwide Visit from the Dickinson Fire Department
URL;VALUE=URI:https://www.dickinson.k12.nd.us/schools/berg/calendar/4838150
 /schoolwide-visit-from-the-dickinson-fire-department
DTSTART;VALUE=DATE:20231012
DTEND;VALUE=DATE:20231013
END:VEVENT
END:VCALENDAR
