BEGIN:VCALENDAR
VERSION:2.0
PRODID:SchoolNow
CALSCALE:GREGORIAN
BEGIN:VEVENT
UID:ef082df4-5311-11ee-9c68-0292f1505fe5
DTSTAMP:20230914T151818Z
SUMMARY:Fall Picture Day
URL;VALUE=URI:https://www.dickinson.k12.nd.us/schools/berg/calendar/4735810
 /fall-picture-day
DTSTART;VALUE=DATE:20231002
DTEND;VALUE=DATE:20231003
END:VEVENT
END:VCALENDAR
