BEGIN:VCALENDAR
VERSION:2.0
PRODID:SchoolNow
CALSCALE:GREGORIAN
BEGIN:VEVENT
UID:d4cbafd8-5311-11ee-bb80-0ae2a935c3d5
DTSTAMP:20230914T151734Z
SUMMARY:NO SCHOOL
URL;VALUE=URI:https://www.dickinson.k12.nd.us/schools/berg/calendar/4735809
 /no-school
DTSTART;VALUE=DATE:20230925
DTEND;VALUE=DATE:20230926
END:VEVENT
END:VCALENDAR
