BEGIN:VCALENDAR
VERSION:2.0
PRODID:SchoolNow
CALSCALE:GREGORIAN
BEGIN:VEVENT
UID:c72dc3e8-5311-11ee-b886-0a58a9feac02
DTSTAMP:20230918T165914Z
SUMMARY:5th Grade Career Fair @ Biesiot Activity Center
URL;VALUE=URI:https://www.dickinson.k12.nd.us/schools/berg/calendar/4735808
 /5th-grade-career-fair-biesiot-activity-center
DTSTART:20230922T140000Z
DTEND:20230922T180000Z
END:VEVENT
END:VCALENDAR
