BEGIN:VCALENDAR
VERSION:2.0
PRODID:SchoolNow
CALSCALE:GREGORIAN
BEGIN:VEVENT
UID:665a9a96-5311-11ee-bee4-0a58a9feac02
DTSTAMP:20230914T151519Z
SUMMARY:4th Grade Field Trip to Knife River Indian Village
URL;VALUE=URI:https://www.dickinson.k12.nd.us/schools/berg/calendar/4735804
 /4th-grade-field-trip-to-knife-river-indian-village
DTSTART;VALUE=DATE:20230922
DTEND;VALUE=DATE:20230923
END:VEVENT
END:VCALENDAR
